BEGIN:VCALENDAR
VERSION:2.0
PRODID:SchoolNow
CALSCALE:GREGORIAN
BEGIN:VEVENT
UID:90161114-a3b7-11f0-9039-0a58a9feac02
DTSTAMP:20251216T154556Z
SUMMARY:ACT Testing
URL;VALUE=URI:https://www.lpssonline.com/schools/acadiana/calendar/8703189/
 act-testing
DTSTART:20260214T130000Z
DTEND:20260214T200000Z
END:VEVENT
END:VCALENDAR
