BEGIN:VCALENDAR
VERSION:2.0
PRODID:SchoolNow
CALSCALE:GREGORIAN
BEGIN:VEVENT
UID:7a6775a8-a54f-11f0-930d-0afff502589d
DTSTAMP:20251216T154557Z
SUMMARY:ACA Performance
LOCATION:Cafeteria
URL;VALUE=URI:https://www.lpssonline.com/schools/acadiana/calendar/8709384/
 aca-performance
DTSTART:20260114T143000Z
DTEND:20260114T153000Z
END:VEVENT
END:VCALENDAR
