BEGIN:VCALENDAR
VERSION:2.0
PRODID:SchoolNow
CALSCALE:GREGORIAN
BEGIN:VEVENT
UID:42f888c0-a9e4-11f0-920e-023808a0bd5f
DTSTAMP:20251216T154557Z
SUMMARY:Solution Tree Houston Texas
URL;VALUE=URI:https://www.lpssonline.com/schools/acadiana/calendar/8724388/
 solution-tree-houston-texas
DTSTART:20260621T130000Z
DTEND:20260624T140000Z
END:VEVENT
END:VCALENDAR
