BEGIN:VCALENDAR
VERSION:2.0
PRODID:SchoolNow
CALSCALE:GREGORIAN
BEGIN:VEVENT
UID:42f88be0-a9e4-11f0-933d-023808a0bd5f
DTSTAMP:20251216T154556Z
SUMMARY:Dance Practice
LOCATION:Cafeteria
URL;VALUE=URI:https://www.lpssonline.com/schools/acadiana/calendar/8724389/
 dance-practice
DTSTART:20251015T200000Z
DTEND:20251015T220000Z
END:VEVENT
END:VCALENDAR
