BEGIN:VCALENDAR
VERSION:2.0
PRODID:SchoolNow
CALSCALE:GREGORIAN
BEGIN:VEVENT
UID:42f88d16-a9e4-11f0-9349-023808a0bd5f
DTSTAMP:20251216T154557Z
SUMMARY:Dance Practice
LOCATION:Cafeteria
URL;VALUE=URI:https://www.lpssonline.com/schools/acadiana/calendar/8724390/
 dance-practice
DTSTART:20251020T200000Z
DTEND:20251020T220000Z
END:VEVENT
END:VCALENDAR
