BEGIN:VCALENDAR
VERSION:2.0
PRODID:SchoolNow
CALSCALE:GREGORIAN
BEGIN:VEVENT
UID:360583a8-aab0-11f0-bd6e-02b2c5599863
DTSTAMP:20251216T154557Z
SUMMARY:AOB Running of the Rams
URL;VALUE=URI:https://www.lpssonline.com/schools/acadiana/calendar/8727041/
 aob-running-of-the-rams
DTSTART:20260321T120000Z
DTEND:20260321T160000Z
END:VEVENT
END:VCALENDAR
