BEGIN:VCALENDAR
VERSION:2.0
PRODID:SchoolNow
CALSCALE:GREGORIAN
BEGIN:VEVENT
UID:36058768-aab0-11f0-81d5-02b2c5599863
DTSTAMP:20251216T154557Z
SUMMARY:AOB- Hospitality Field Trip
URL;VALUE=URI:https://www.lpssonline.com/schools/acadiana/calendar/8727042/
 aob-hospitality-field-trip
DTSTART:20251117T140000Z
DTEND:20251118T000000Z
END:VEVENT
END:VCALENDAR
