BEGIN:VCALENDAR
VERSION:2.0
PRODID:SchoolNow
CALSCALE:GREGORIAN
BEGIN:VEVENT
UID:3605889e-aab0-11f0-848f-02b2c5599863
DTSTAMP:20251216T154557Z
SUMMARY:AOB- UL Field Trip Accounting
URL;VALUE=URI:https://www.lpssonline.com/schools/acadiana/calendar/8727043/
 aob-ul-field-trip-accounting
DTSTART:20251105T140000Z
DTEND:20251105T200000Z
END:VEVENT
END:VCALENDAR
