BEGIN:VCALENDAR
VERSION:2.0
PRODID:SchoolNow
CALSCALE:GREGORIAN
BEGIN:VEVENT
UID:36058a9c-aab0-11f0-a887-02b2c5599863
DTSTAMP:20251216T154557Z
SUMMARY:AOB Info Session
LOCATION:Library
URL;VALUE=URI:https://www.lpssonline.com/schools/acadiana/calendar/8727045/
 aob-info-session
DTSTART:20251111T233000Z
DTEND:20251112T003000Z
END:VEVENT
END:VCALENDAR
