BEGIN:VCALENDAR
VERSION:2.0
PRODID:SchoolNow
CALSCALE:GREGORIAN
BEGIN:VEVENT
UID:b61a99fc-adf8-11f0-86e9-0a58a9feac02
DTSTAMP:20251216T154556Z
SUMMARY:ACT Testing
URL;VALUE=URI:https://www.lpssonline.com/schools/acadiana/calendar/8736491/
 act-testing
DTSTART:20251028T120000Z
DTEND:20251028T180000Z
END:VEVENT
END:VCALENDAR
