BEGIN:VCALENDAR
VERSION:2.0
PRODID:SchoolNow
CALSCALE:GREGORIAN
BEGIN:VEVENT
UID:b61aa1ae-adf8-11f0-be56-0a58a9feac02
DTSTAMP:20251216T154557Z
SUMMARY:JV Football vs Teurlings (H)
URL;VALUE=URI:https://www.lpssonline.com/schools/acadiana/calendar/8736492/
 jv-football-vs-teurlings-h
DTSTART:20251022T223000Z
DTEND:20251023T003000Z
END:VEVENT
END:VCALENDAR
