BEGIN:VCALENDAR
VERSION:2.0
PRODID:SchoolNow
CALSCALE:GREGORIAN
BEGIN:VEVENT
UID:b61aa3d4-adf8-11f0-a952-0a58a9feac02
DTSTAMP:20251216T154557Z
SUMMARY:FR Football vs Catholic High (H) (McQuain)
URL;VALUE=URI:https://www.lpssonline.com/schools/acadiana/calendar/8736493/
 fr-football-vs-catholic-high-h-mcquain
DTSTART:20251020T233000Z
DTEND:20251021T010000Z
END:VEVENT
END:VCALENDAR
