BEGIN:VCALENDAR
VERSION:2.0
PRODID:SchoolNow
CALSCALE:GREGORIAN
BEGIN:VEVENT
UID:b61aa50a-adf8-11f0-baeb-0a58a9feac02
DTSTAMP:20251216T154557Z
SUMMARY:GBB Scimmage vs Basile /LCP
URL;VALUE=URI:https://www.lpssonline.com/schools/acadiana/calendar/8736494/
 gbb-scimmage-vs-basile-lcp
DTSTART:20251028T220000Z
DTEND:20251029T000000Z
END:VEVENT
END:VCALENDAR
