BEGIN:VCALENDAR
VERSION:2.0
PRODID:SchoolNow
CALSCALE:GREGORIAN
BEGIN:VEVENT
UID:b61aa71c-adf8-11f0-a833-0a58a9feac02
DTSTAMP:20251216T154556Z
SUMMARY:GBB vs Mamou (H) - McQuain
LOCATION:Varsity Only
URL;VALUE=URI:https://www.lpssonline.com/schools/acadiana/calendar/8736496/
 gbb-vs-mamou-h-mcquain
DTSTART:20251117T230000Z
DTEND:20251118T013000Z
END:VEVENT
END:VCALENDAR
