BEGIN:VCALENDAR
VERSION:2.0
PRODID:SchoolNow
CALSCALE:GREGORIAN
BEGIN:VEVENT
UID:b61aa80c-adf8-11f0-a642-0a58a9feac02
DTSTAMP:20251216T154557Z
SUMMARY:GBB vs Franklin (H) Kelly
LOCATION:Varsity Only
URL;VALUE=URI:https://www.lpssonline.com/schools/acadiana/calendar/8736497/
 gbb-vs-franklin-h-kelly
DTSTART:20251118T230000Z
DTEND:20251119T013000Z
END:VEVENT
END:VCALENDAR
