BEGIN:VCALENDAR
VERSION:2.0
PRODID:SchoolNow
CALSCALE:GREGORIAN
BEGIN:VEVENT
UID:b61aa906-adf8-11f0-90dd-0a58a9feac02
DTSTAMP:20251216T154557Z
SUMMARY:GBB @ Cecelia
LOCATION:JV/V
URL;VALUE=URI:https://www.lpssonline.com/schools/acadiana/calendar/8736498/
 gbb-cecelia
DTSTART:20251119T233000Z
DTEND:20251120T020000Z
END:VEVENT
END:VCALENDAR
