BEGIN:VCALENDAR
VERSION:2.0
PRODID:SchoolNow
CALSCALE:GREGORIAN
BEGIN:VEVENT
UID:b61ab072-adf8-11f0-98e9-0a58a9feac02
DTSTAMP:20251216T154557Z
SUMMARY:GBB & BBB @ Abbeville
URL;VALUE=URI:https://www.lpssonline.com/schools/acadiana/calendar/8736501/
 gbb-bbb-abbeville
DTSTART:20251209T233000Z
DTEND:20251210T020000Z
END:VEVENT
END:VCALENDAR
