BEGIN:VCALENDAR
VERSION:2.0
PRODID:SchoolNow
CALSCALE:GREGORIAN
BEGIN:VEVENT
UID:b61ab2fc-adf8-11f0-8eb0-0a58a9feac02
DTSTAMP:20251216T154557Z
SUMMARY:GBB & BBB vs Eunice (H)
URL;VALUE=URI:https://www.lpssonline.com/schools/acadiana/calendar/8736502/
 gbb-bbb-vs-eunice-h
DTSTART:20251217T000000Z
DTEND:20251217T023000Z
END:VEVENT
END:VCALENDAR
