BEGIN:VCALENDAR
VERSION:2.0
PRODID:SchoolNow
CALSCALE:GREGORIAN
BEGIN:VEVENT
UID:b61ab428-adf8-11f0-84c7-0a58a9feac02
DTSTAMP:20251216T154556Z
SUMMARY:GBB@ Catholic New Iberia
URL;VALUE=URI:https://www.lpssonline.com/schools/acadiana/calendar/8736503/
 gbb-catholic-new-iberia
DTSTART:20251222T233000Z
DTEND:20251223T023000Z
END:VEVENT
END:VCALENDAR
