BEGIN:VCALENDAR
VERSION:2.0
PRODID:SchoolNow
CALSCALE:GREGORIAN
BEGIN:VEVENT
UID:b61ab52c-adf8-11f0-bbbf-0a58a9feac02
DTSTAMP:20251216T154557Z
SUMMARY:GBB & BBB vs Church Point (H)
URL;VALUE=URI:https://www.lpssonline.com/schools/acadiana/calendar/8736504/
 gbb-bbb-vs-church-point-h
DTSTART:20251223T230000Z
DTEND:20251224T023000Z
END:VEVENT
END:VCALENDAR
