BEGIN:VCALENDAR
VERSION:2.0
PRODID:SchoolNow
CALSCALE:GREGORIAN
BEGIN:VEVENT
UID:65b3ef7a-b05c-11f0-97b9-0affebb9eb77
DTSTAMP:20251216T154557Z
SUMMARY:NHS Meeting
LOCATION:Library
URL;VALUE=URI:https://www.lpssonline.com/schools/acadiana/calendar/8745603/
 nhs-meeting
DTSTART:20251209T204500Z
DTEND:20251209T214500Z
END:VEVENT
END:VCALENDAR
