BEGIN:VCALENDAR
VERSION:2.0
PRODID:SchoolNow
CALSCALE:GREGORIAN
BEGIN:VEVENT
UID:65b3f312-b05c-11f0-8d1d-0affebb9eb77
DTSTAMP:20251216T154557Z
SUMMARY:NHS Induction Rehearsal
LOCATION:Cafeteria
URL;VALUE=URI:https://www.lpssonline.com/schools/acadiana/calendar/8745604/
 nhs-induction-rehearsal
DTSTART:20251112T195000Z
DTEND:20251112T203500Z
END:VEVENT
END:VCALENDAR
