BEGIN:VCALENDAR
VERSION:2.0
PRODID:SchoolNow
CALSCALE:GREGORIAN
BEGIN:VEVENT
UID:36c7f306-b425-11f0-b380-0a58a9feac02
DTSTAMP:20251216T154557Z
SUMMARY:Dance Practice
LOCATION:Cafeteria
URL;VALUE=URI:https://www.lpssonline.com/schools/acadiana/calendar/8757272/
 dance-practice
DTSTART:20251103T204500Z
DTEND:20251103T224500Z
END:VEVENT
END:VCALENDAR
