BEGIN:VCALENDAR
VERSION:2.0
PRODID:SchoolNow
CALSCALE:GREGORIAN
BEGIN:VEVENT
UID:36c7fa2c-b425-11f0-a0b1-0a58a9feac02
DTSTAMP:20251216T154557Z
SUMMARY:Dance Practice
LOCATION:Cafeteria
URL;VALUE=URI:https://www.lpssonline.com/schools/acadiana/calendar/8757276/
 dance-practice
DTSTART:20251119T204500Z
DTEND:20251119T230000Z
END:VEVENT
END:VCALENDAR
