BEGIN:VCALENDAR
VERSION:2.0
PRODID:SchoolNow
CALSCALE:GREGORIAN
BEGIN:VEVENT
UID:30f8bb30-b458-11f0-8484-02ddd0e7a56b
DTSTAMP:20251216T154557Z
SUMMARY:Turkey Trot @ Prairie Elem.
URL;VALUE=URI:https://www.lpssonline.com/schools/acadiana/calendar/8757956/
 turkey-trot-prairie-elem
DTSTART:20251120T160000Z
DTEND:20251120T163000Z
END:VEVENT
END:VCALENDAR
