BEGIN:VCALENDAR
VERSION:2.0
PRODID:SchoolNow
CALSCALE:GREGORIAN
BEGIN:VEVENT
UID:4a3f16d6-b4f1-11f0-a682-0a58a9feac02
DTSTAMP:20251216T154556Z
SUMMARY:Choir Christmas Performance
LOCATION:One Church Lafayette (Scott Location)
URL;VALUE=URI:https://www.lpssonline.com/schools/acadiana/calendar/8759541/
 choir-christmas-performance
DTSTART:20251210T003000Z
DTEND:20251210T013000Z
END:VEVENT
END:VCALENDAR
