BEGIN:VCALENDAR
VERSION:2.0
PRODID:SchoolNow
CALSCALE:GREGORIAN
BEGIN:VEVENT
UID:2ee0836c-b5bd-11f0-b8e0-02f81e33c5a3
DTSTAMP:20251216T154557Z
SUMMARY:Air Force Performance Lab
URL;VALUE=URI:https://www.lpssonline.com/schools/acadiana/calendar/8761896/
 air-force-performance-lab
DTSTART:20251119T140000Z
DTEND:20251119T180000Z
END:VEVENT
END:VCALENDAR
