BEGIN:VCALENDAR
VERSION:2.0
PRODID:SchoolNow
CALSCALE:GREGORIAN
BEGIN:VEVENT
UID:fdb6f466-b985-11f0-9833-0affc69c6d11
DTSTAMP:20251216T154557Z
SUMMARY:WorkKeys Testing
URL;VALUE=URI:https://www.lpssonline.com/schools/acadiana/calendar/8775491/
 workkeys-testing
DTSTART;VALUE=DATE:20251111
DTEND;VALUE=DATE:20251114
END:VEVENT
END:VCALENDAR
