BEGIN:VCALENDAR
VERSION:2.0
PRODID:SchoolNow
CALSCALE:GREGORIAN
BEGIN:VEVENT
UID:f9c47d5a-b9b8-11f0-b2a1-0a58a9feac02
DTSTAMP:20251216T154557Z
SUMMARY:Dance Practice
LOCATION:Cafeteria
URL;VALUE=URI:https://www.lpssonline.com/schools/acadiana/calendar/8777103/
 dance-practice
DTSTART:20251210T210000Z
DTEND:20251210T230000Z
END:VEVENT
END:VCALENDAR
