BEGIN:VCALENDAR
VERSION:2.0
PRODID:SchoolNow
CALSCALE:GREGORIAN
BEGIN:VEVENT
UID:f9c48110-b9b8-11f0-8a48-0a58a9feac02
DTSTAMP:20251216T154557Z
SUMMARY:Dance Practice
LOCATION:Cafeteria
URL;VALUE=URI:https://www.lpssonline.com/schools/acadiana/calendar/8777104/
 dance-practice
DTSTART:20260105T210000Z
DTEND:20260105T230000Z
END:VEVENT
END:VCALENDAR
