BEGIN:VCALENDAR
VERSION:2.0
PRODID:SchoolNow
CALSCALE:GREGORIAN
BEGIN:VEVENT
UID:f9ff64ce-b9b8-11f0-a595-0a58a9feac02
DTSTAMP:20251216T154556Z
SUMMARY:Dance Practice
LOCATION:Cafeteria
URL;VALUE=URI:https://www.lpssonline.com/schools/acadiana/calendar/8777105/
 dance-practice
DTSTART:20251208T210000Z
DTEND:20251208T230000Z
END:VEVENT
END:VCALENDAR
