BEGIN:VCALENDAR
VERSION:2.0
PRODID:SchoolNow
CALSCALE:GREGORIAN
BEGIN:VEVENT
UID:f9ff723e-b9b8-11f0-9fca-0a58a9feac02
DTSTAMP:20251216T154557Z
SUMMARY:Dance Practice
LOCATION:Cafeteria
URL;VALUE=URI:https://www.lpssonline.com/schools/acadiana/calendar/8777110/
 dance-practice
DTSTART:20251201T210000Z
DTEND:20251201T230000Z
END:VEVENT
END:VCALENDAR
