BEGIN:VCALENDAR
VERSION:2.0
PRODID:SchoolNow
CALSCALE:GREGORIAN
BEGIN:VEVENT
UID:f9ff732e-b9b8-11f0-b64e-0a58a9feac02
DTSTAMP:20251216T154557Z
SUMMARY:Dance Practice
LOCATION:Cafeteria
URL;VALUE=URI:https://www.lpssonline.com/schools/acadiana/calendar/8777111/
 dance-practice
DTSTART:20251215T210000Z
DTEND:20251215T230000Z
END:VEVENT
END:VCALENDAR
