BEGIN:VCALENDAR
VERSION:2.0
PRODID:SchoolNow
CALSCALE:GREGORIAN
BEGIN:VEVENT
UID:f36f22a4-ba51-11f0-a09f-0a58a9feac02
DTSTAMP:20251216T154557Z
SUMMARY:Meet the Rams
LOCATION:Boys Gym
URL;VALUE=URI:https://www.lpssonline.com/schools/acadiana/calendar/8778657/
 meet-the-rams
DTSTART:20251114T000000Z
DTEND:20251114T010000Z
END:VEVENT
END:VCALENDAR
