BEGIN:VCALENDAR
VERSION:2.0
PRODID:SchoolNow
CALSCALE:GREGORIAN
BEGIN:VEVENT
UID:ed23955a-ba84-11f0-ad71-0affea2ec1a3
DTSTAMP:20251216T154557Z
SUMMARY:Boys Basketball @ Washington Marion
URL;VALUE=URI:https://www.lpssonline.com/schools/acadiana/calendar/8779518/
 boys-basketball-washington-marion
DTSTART:20260113T230000Z
DTEND:20260114T000000Z
END:VEVENT
END:VCALENDAR
