BEGIN:VCALENDAR
VERSION:2.0
PRODID:SchoolNow
CALSCALE:GREGORIAN
BEGIN:VEVENT
UID:ed239884-ba84-11f0-bb69-0affea2ec1a3
DTSTAMP:20251216T154556Z
SUMMARY:Girls Basketball Southside V Jamboree @ LCA
URL;VALUE=URI:https://www.lpssonline.com/schools/acadiana/calendar/8779519/
 girls-basketball-southside-v-jamboree-lca
DTSTART:20251112T220000Z
DTEND:20251112T230000Z
END:VEVENT
END:VCALENDAR
