BEGIN:VCALENDAR
VERSION:2.0
PRODID:SchoolNow
CALSCALE:GREGORIAN
BEGIN:VEVENT
UID:ed2399ba-ba84-11f0-ae77-0affea2ec1a3
DTSTAMP:20251216T154556Z
SUMMARY:Boys Basketball Alexandria Tourney
URL;VALUE=URI:https://www.lpssonline.com/schools/acadiana/calendar/8779520/
 boys-basketball-alexandria-tourney
DTSTART;VALUE=DATE:20251230
DTEND;VALUE=DATE:20251231
END:VEVENT
END:VCALENDAR
