BEGIN:VCALENDAR
VERSION:2.0
PRODID:SchoolNow
CALSCALE:GREGORIAN
BEGIN:VEVENT
UID:ed239b4a-ba84-11f0-ae08-0affea2ec1a3
DTSTAMP:20251216T154557Z
SUMMARY:Acadiana JV Tournament
URL;VALUE=URI:https://www.lpssonline.com/schools/acadiana/calendar/8779521/
 acadiana-jv-tournament
DTSTART;VALUE=DATE:20260124
DTEND;VALUE=DATE:20260125
END:VEVENT
END:VCALENDAR
