BEGIN:VCALENDAR
VERSION:2.0
PRODID:SchoolNow
CALSCALE:GREGORIAN
BEGIN:VEVENT
UID:ed239cc6-ba84-11f0-90c4-0affea2ec1a3
DTSTAMP:20251216T154557Z
SUMMARY:Girls Basketball @ Kaplan
URL;VALUE=URI:https://www.lpssonline.com/schools/acadiana/calendar/8779522/
 girls-basketball-kaplan
DTSTART:20260116T230000Z
DTEND:20260117T020000Z
END:VEVENT
END:VCALENDAR
