BEGIN:VCALENDAR
VERSION:2.0
PRODID:SchoolNow
CALSCALE:GREGORIAN
BEGIN:VEVENT
UID:ed239dfc-ba84-11f0-a008-0affea2ec1a3
DTSTAMP:20251216T154557Z
SUMMARY:Girls Basketball @ Denham Springs JV Tourney
URL;VALUE=URI:https://www.lpssonline.com/schools/acadiana/calendar/8779523/
 girls-basketball-denham-springs-jv-tourney
DTSTART:20260117T230000Z
DTEND:20260118T000000Z
END:VEVENT
END:VCALENDAR
