BEGIN:VCALENDAR
VERSION:2.0
PRODID:SchoolNow
CALSCALE:GREGORIAN
BEGIN:VEVENT
UID:ed239f3c-ba84-11f0-98b1-0affea2ec1a3
DTSTAMP:20251216T154557Z
SUMMARY:Boys Basketball Jamboree @ Crowley
URL;VALUE=URI:https://www.lpssonline.com/schools/acadiana/calendar/8779524/
 boys-basketball-jamboree-crowley
DTSTART;VALUE=DATE:20251115
DTEND;VALUE=DATE:20251116
END:VEVENT
END:VCALENDAR
