BEGIN:VCALENDAR
VERSION:2.0
PRODID:SchoolNow
CALSCALE:GREGORIAN
BEGIN:VEVENT
UID:ed23a09a-ba84-11f0-ba28-0affea2ec1a3
DTSTAMP:20251216T154557Z
SUMMARY:Boys Basketball @ LCA
URL;VALUE=URI:https://www.lpssonline.com/schools/acadiana/calendar/8779525/
 boys-basketball-lca
DTSTART:20251219T000000Z
DTEND:20251219T010000Z
END:VEVENT
END:VCALENDAR
