BEGIN:VCALENDAR
VERSION:2.0
PRODID:SchoolNow
CALSCALE:GREGORIAN
BEGIN:VEVENT
UID:ed23a18a-ba84-11f0-989f-0affea2ec1a3
DTSTAMP:20251216T154557Z
SUMMARY:Girls Basketball @ Alexandria Tourney
URL;VALUE=URI:https://www.lpssonline.com/schools/acadiana/calendar/8779526/
 girls-basketball-alexandria-tourney
DTSTART;VALUE=DATE:20251230
DTEND;VALUE=DATE:20251231
END:VEVENT
END:VCALENDAR
