BEGIN:VCALENDAR
VERSION:2.0
PRODID:SchoolNow
CALSCALE:GREGORIAN
BEGIN:VEVENT
UID:ed23a496-ba84-11f0-98e6-0affea2ec1a3
DTSTAMP:20251216T154557Z
SUMMARY:Boys Basketball @ Sam Houston
URL;VALUE=URI:https://www.lpssonline.com/schools/acadiana/calendar/8779528/
 boys-basketball-sam-houston
DTSTART:20260217T233000Z
DTEND:20260218T030000Z
END:VEVENT
END:VCALENDAR
