BEGIN:VCALENDAR
VERSION:2.0
PRODID:SchoolNow
CALSCALE:GREGORIAN
BEGIN:VEVENT
UID:ed23a6f8-ba84-11f0-9de7-0affea2ec1a3
DTSTAMP:20251216T154556Z
SUMMARY:GBB & BBB vs  Avoyelles Public Charter (H)
URL;VALUE=URI:https://www.lpssonline.com/schools/acadiana/calendar/8779529/
 gbb-bbb-vs-avoyelles-public-charter-h
DTSTART:20260109T233000Z
DTEND:20260110T030000Z
END:VEVENT
END:VCALENDAR
