BEGIN:VCALENDAR
VERSION:2.0
PRODID:SchoolNow
CALSCALE:GREGORIAN
BEGIN:VEVENT
UID:ed23a82e-ba84-11f0-b6af-0affea2ec1a3
DTSTAMP:20251216T154557Z
SUMMARY:Girls Basketball @ Sacred Heart- VP
URL;VALUE=URI:https://www.lpssonline.com/schools/acadiana/calendar/8779530/
 girls-basketball-sacred-heart-vp
DTSTART:20260102T230000Z
DTEND:20260103T000000Z
END:VEVENT
END:VCALENDAR
