BEGIN:VCALENDAR
VERSION:2.0
PRODID:SchoolNow
CALSCALE:GREGORIAN
BEGIN:VEVENT
UID:ed23a93c-ba84-11f0-a037-0affea2ec1a3
DTSTAMP:20251216T154557Z
SUMMARY:Boys Basketball vs Crowley (H)
URL;VALUE=URI:https://www.lpssonline.com/schools/acadiana/calendar/8779531/
 boys-basketball-vs-crowley-h
DTSTART:20260123T233000Z
DTEND:20260124T020000Z
END:VEVENT
END:VCALENDAR
