BEGIN:VCALENDAR
VERSION:2.0
PRODID:SchoolNow
CALSCALE:GREGORIAN
BEGIN:VEVENT
UID:ed5096f4-ba84-11f0-91ab-0affea2ec1a3
DTSTAMP:20251216T154557Z
SUMMARY:Girls & Boys Basketball @ Sulphur
URL;VALUE=URI:https://www.lpssonline.com/schools/acadiana/calendar/8779532/
 girls-boys-basketball-sulphur
DTSTART:20260203T233000Z
DTEND:20260204T030000Z
END:VEVENT
END:VCALENDAR
