BEGIN:VCALENDAR
VERSION:2.0
PRODID:SchoolNow
CALSCALE:GREGORIAN
BEGIN:VEVENT
UID:ed509adc-ba84-11f0-8e43-0affea2ec1a3
DTSTAMP:20251216T154557Z
SUMMARY:Boys Basketball @ St. Martinville
URL;VALUE=URI:https://www.lpssonline.com/schools/acadiana/calendar/8779533/
 boys-basketball-st-martinville
DTSTART:20251119T000000Z
DTEND:20251119T010000Z
END:VEVENT
END:VCALENDAR
