BEGIN:VCALENDAR
VERSION:2.0
PRODID:SchoolNow
CALSCALE:GREGORIAN
BEGIN:VEVENT
UID:ed509c1c-ba84-11f0-bb93-0affea2ec1a3
DTSTAMP:20251216T154556Z
SUMMARY:Boys Basketball vs Carencro (H)
URL;VALUE=URI:https://www.lpssonline.com/schools/acadiana/calendar/8779534/
 boys-basketball-vs-carencro-h
DTSTART:20260220T233000Z
DTEND:20260221T030000Z
END:VEVENT
END:VCALENDAR
